BEGIN:VCALENDAR
VERSION:2.0
PRODID:-//wp-events-plugin.com//7.2.3.1//EN
TZID:Asia/Jerusalem
X-WR-TIMEZONE:Asia/Jerusalem
BEGIN:VEVENT
UID:1-20@ismicroscopy.org.il
DTSTART;TZID=Asia/Jerusalem;VALUE=DATE:20160111
DTEND;TZID=Asia/Jerusalem;VALUE=DATE:20160113
DTSTAMP:20150916T210059Z
URL:https://www.ismicroscopy.org.il/events/3d-cryo2016/
SUMMARY:3D-Cryo2016
DESCRIPTION:\n&nbsp\;\nA workshop discussing the latest advances in CryoEM 
 single-particle and tomography will be held from 11-12 January 2016 at the
  Weizmann Institute of Science. This workshop will be organized around res
 earch lectures highlighting the state-of-the-art in the field\, as well as
  methodological lectures explaining the theory and practicalities of the t
 echniques. \nThere is no registrations fee\, and travel scholarships will 
 be available for young researchers to partially cover travel and accommoda
 tion expenses.\nFor more details see the workshop website.\n&nbsp\;
CATEGORIES:Workshop
END:VEVENT
BEGIN:VTIMEZONE
TZID:Asia/Jerusalem
X-LIC-LOCATION:Asia/Jerusalem
BEGIN:STANDARD
DTSTART:20151025T010000
TZOFFSETFROM:+0300
TZOFFSETTO:+0200
TZNAME:IST
END:STANDARD
END:VTIMEZONE
END:VCALENDAR