BEGIN:VCALENDAR
VERSION:2.0
PRODID:-//wp-events-plugin.com//7.2.3.1//EN
TZID:Asia/Jerusalem
X-WR-TIMEZONE:Asia/Jerusalem
BEGIN:VEVENT
UID:1-31@ismicroscopy.org.il
DTSTART;TZID=Asia/Jerusalem;VALUE=DATE:20170223
DTEND;TZID=Asia/Jerusalem;VALUE=DATE:20170224
DTSTAMP:20161208T231609Z
URL:https://www.ismicroscopy.org.il/events/cryogenic-preparation-and-imagi
 ng-strategies-for-soft-matter-in-materials-science/
SUMMARY:Cryogenic Preparation and Imaging Strategies for Soft Matter in Mat
 erials Science
DESCRIPTION:\nThe Royal Microscopy Society organizes this meeting which wil
 l take place at Queen Mary University of London\, UK on February 23\, 2017
 .\nFor more information visit: http://www.rms.org.uk/discover-engage/event
 -calendar/cryogenic-preparation-imaging.html\nThe meeting program is avail
 able for download here.\n&nbsp\;
CATEGORIES:Conferences
END:VEVENT
BEGIN:VTIMEZONE
TZID:Asia/Jerusalem
X-LIC-LOCATION:Asia/Jerusalem
BEGIN:STANDARD
DTSTART:20161030T010000
TZOFFSETFROM:+0300
TZOFFSETTO:+0200
TZNAME:IST
END:STANDARD
END:VTIMEZONE
END:VCALENDAR