BEGIN:VCALENDAR
VERSION:2.0
PRODID:-//wp-events-plugin.com//7.2.3.1//EN
TZID:Asia/Jerusalem
X-WR-TIMEZONE:Asia/Jerusalem
BEGIN:VEVENT
UID:0-58@ismicroscopy.org.il
DTSTART;TZID=Asia/Jerusalem;VALUE=DATE:20230220
DTEND;TZID=Asia/Jerusalem;VALUE=DATE:20230224
DTSTAMP:20221229T092133Z
URL:https://www.ismicroscopy.org.il/events/ilanit-fiseb2023/
SUMMARY:ILANIT/FISEB2023
DESCRIPTION:[row][column size="1/6"]2023February20-23[/column][column size=
 "5/6"]The 10th ILANIT/FISEB Conference will be held in Eilat\, Israel betw
 een February 20th - 23rd\, 2023.\nFor more information visit: https://conf
 .fiseb.org/[/column][/row]
CATEGORIES:Conferences
END:VEVENT
BEGIN:VTIMEZONE
TZID:Asia/Jerusalem
X-LIC-LOCATION:Asia/Jerusalem
BEGIN:STANDARD
DTSTART:20221030T010000
TZOFFSETFROM:+0300
TZOFFSETTO:+0200
TZNAME:IST
END:STANDARD
END:VTIMEZONE
END:VCALENDAR