BEGIN:VCALENDAR
VERSION:2.0
PRODID:-//wp-events-plugin.com//7.2.3.1//EN
TZID:Asia/Jerusalem
X-WR-TIMEZONE:Asia/Jerusalem
BEGIN:VEVENT
UID:1-35@ismicroscopy.org.il
DTSTART;TZID=Asia/Jerusalem;VALUE=DATE:20170322
DTEND;TZID=Asia/Jerusalem;VALUE=DATE:20170323
DTSTAMP:20170211T230906Z
URL:https://www.ismicroscopy.org.il/events/imaging-chromatin/
SUMMARY:Imaging Chromatin
DESCRIPTION:\nThe Institute of Life Sciences at The Hebrew University of Je
 rusalem organizes a CellViewer Mini Symposium on Wednesday\, March 22\, 20
 17.\nThe meeting flyer is available for download here.\n&nbsp\;
CATEGORIES:Conferences,Workshop
END:VEVENT
BEGIN:VTIMEZONE
TZID:Asia/Jerusalem
X-LIC-LOCATION:Asia/Jerusalem
BEGIN:STANDARD
DTSTART:20161030T010000
TZOFFSETFROM:+0300
TZOFFSETTO:+0200
TZNAME:IST
END:STANDARD
END:VTIMEZONE
END:VCALENDAR