BEGIN:VCALENDAR
VERSION:2.0
PRODID:-//wp-events-plugin.com//7.2.3.1//EN
TZID:Asia/Jerusalem
X-WR-TIMEZONE:Asia/Jerusalem
BEGIN:VEVENT
UID:0-40@ismicroscopy.org.il
DTSTART;TZID=Asia/Jerusalem;VALUE=DATE:20190529
DTEND;TZID=Asia/Jerusalem;VALUE=DATE:20190530
DTSTAMP:20181203T191712Z
URL:https://www.ismicroscopy.org.il/events/ism2019/
SUMMARY:ISM2019
DESCRIPTION:[row][column size="1/6"]2019May29[/column][column size="5/6"]Th
 e Israel Society for Microscopy will hold its 53rd annual meeting at the D
 an Panorama Tel Aviv Hotel on May 29\, 2019.\nFor more information visit: 
 http://www.ismicroscopy.org.il/ism2019/[/column][/row]\n
CATEGORIES:Conferences
END:VEVENT
BEGIN:VTIMEZONE
TZID:Asia/Jerusalem
X-LIC-LOCATION:Asia/Jerusalem
BEGIN:DAYLIGHT
DTSTART:20190329T030000
TZOFFSETFROM:+0200
TZOFFSETTO:+0300
TZNAME:IDT
END:DAYLIGHT
END:VTIMEZONE
END:VCALENDAR