BEGIN:VCALENDAR
VERSION:2.0
PRODID:-//wp-events-plugin.com//7.2.3.1//EN
TZID:Asia/Jerusalem
X-WR-TIMEZONE:Asia/Jerusalem
BEGIN:VEVENT
UID:1-4@ismicroscopy.org.il
DTSTART;TZID=Asia/Jerusalem;VALUE=DATE:20141027
DTEND;TZID=Asia/Jerusalem;VALUE=DATE:20141101
DTSTAMP:20140908T115845Z
URL:https://www.ismicroscopy.org.il/events/nibsc2014/
SUMMARY:NIBSC2014
DESCRIPTION:\n\nNIBSC with JEOL (UK) Ltd. and LEICA are holding a dedicated
  cryo-workshop based on technologies installed at the NIBSC Imaging labora
 tory\, Potters Bar\, London\, UK. The course will be held over 5 days comm
 encing Monday 27th October through to Friday 31st October 2014.\n\nDelegat
 e numbers will be strictly limited to ensure maximum hands-on training. \n
 \nThe course will embrace cryo-preparation techniques using Cryo-FEGSEM\, 
 Cryo-TEM with GIF quantum and many associated preparation techniques: High
  pressure freezing (HMP010)\, Freeze fracture (Leica/BAF060)\, Cryo-sectio
 ning\, Freeze substitution\, Vitreous thin films (plunge freezing)\, Tomog
 raphy and High resolution Cryo-FEG SEM.  This year new automated acquisiti
 on solutions will also be taught.\n\nThe ethos of the course is very much 
 “hands-on” with technical support lectures from scientists in these fi
 elds and application support from JEOL\, LEICA and invited specialists fro
 m University of Lausanne and Max Plank Institute.
CATEGORIES:Workshop
END:VEVENT
BEGIN:VTIMEZONE
TZID:Asia/Jerusalem
X-LIC-LOCATION:Asia/Jerusalem
BEGIN:STANDARD
DTSTART:20141026T010000
TZOFFSETFROM:+0300
TZOFFSETTO:+0200
TZNAME:IST
END:STANDARD
END:VTIMEZONE
END:VCALENDAR